BEGIN:VCALENDAR
VERSION:2.0
PRODID:-//Ravouna 1906 Coffee & Bar - ECPv4.5.5//NONSGML v1.0//EN
CALSCALE:GREGORIAN
METHOD:PUBLISH
X-WR-CALNAME:Ravouna 1906 Coffee & Bar
X-ORIGINAL-URL:http://cafe.ravouna1906.com
X-WR-CALDESC:Events for Ravouna 1906 Coffee & Bar
BEGIN:VEVENT
DTSTART;VALUE=DATE:20180622
DTEND;VALUE=DATE:20180622
DTSTAMP:20260419T183518
CREATED:20180621T072042Z
LAST-MODIFIED:20180621T072202Z
UID:11107-1529625600-1529711999@cafe.ravouna1906.com
SUMMARY:İpek Dinç Yüce
DESCRIPTION:İpek_Dinc_Yuce\n
URL:http://cafe.ravouna1906.com/event-calendar/11107/
ATTACH;FMTTYPE=image/png:http://cafe.ravouna1906.com/wp-content/uploads/2018/06/ravouna-sanatci-04.png
END:VEVENT
END:VCALENDAR