BEGIN:VCALENDAR
VERSION:2.0
PRODID:-//Ravouna 1906 Coffee & Bar - ECPv4.5.5//NONSGML v1.0//EN
CALSCALE:GREGORIAN
METHOD:PUBLISH
X-WR-CALNAME:Ravouna 1906 Coffee & Bar
X-ORIGINAL-URL:http://cafe.ravouna1906.com
X-WR-CALDESC:Events for Ravouna 1906 Coffee & Bar
BEGIN:VEVENT
DTSTART;TZID=UTC+3:20151120T100000
DTEND;TZID=UTC+3:20151219T220000
DTSTAMP:20260416T165841
CREATED:20151225T093107Z
LAST-MODIFIED:20151225T093107Z
UID:10859-1448013600-1450562400@cafe.ravouna1906.com
SUMMARY:Abidin Dino Sergisi
DESCRIPTION:\nRavouna 1906’nın tarih kokan binasında bir ilke imza atılıyor. \nTürk Resim ve Edebiyatının en önemli isimlerinden Abidin Dino anısına düzenlenen ve usta sanatçının başta yağlı boya tabloları ve desenleri olmak üzere bir çok nadide eserinin yer aldığı serginin açılışı 20 Kasım’da gerçekleşiyor. \nRavouna 1906 ev sahipliğiyle \, Mehmet Ali Hatemi küratörlüğünde gerçekleştirilecek olan sergi \, 19 Aralık’a kadar tüm sanatseverlerin beğenisine açıktır. \n
URL:http://cafe.ravouna1906.com/event-calendar/abidin-dino-sergisi/
LOCATION:Tomtom Mah. İstiklal Cad. No 201 Beyoğlu\, İstanbul
END:VEVENT
END:VCALENDAR