BEGIN:VCALENDAR
VERSION:2.0
PRODID:-//Ravouna 1906 Coffee & Bar - ECPv4.5.5//NONSGML v1.0//EN
CALSCALE:GREGORIAN
METHOD:PUBLISH
X-WR-CALNAME:Ravouna 1906 Coffee & Bar
X-ORIGINAL-URL:http://cafe.ravouna1906.com
X-WR-CALDESC:Events for Ravouna 1906 Coffee & Bar
BEGIN:VEVENT
DTSTART;TZID=UTC+0:20160827T203000
DTEND;TZID=UTC+0:20160827T235500
DTSTAMP:20260413T133847
CREATED:20160817T061047Z
LAST-MODIFIED:20160817T061047Z
UID:11040-1472329800-1472342100@cafe.ravouna1906.com
SUMMARY:Ayta Sözeri
DESCRIPTION:
URL:http://cafe.ravouna1906.com/event-calendar/ayta-sozeri-2/
LOCATION:Ravouna1906  İstiklal Caddesi Tomtom Mah. \, İstanbul\, Beyoğlu\, Turkey
ATTACH;FMTTYPE=image/jpeg:http://cafe.ravouna1906.com/wp-content/uploads/2016/08/aytasozeriweb.jpg
ORGANIZER;CN="Terrace":MAILTO:reservations@ravouna1906.com
END:VEVENT
END:VCALENDAR