BEGIN:VCALENDAR
VERSION:2.0
PRODID:-//Ravouna 1906 Coffee & Bar - ECPv4.5.5//NONSGML v1.0//EN
CALSCALE:GREGORIAN
METHOD:PUBLISH
X-WR-CALNAME:Ravouna 1906 Coffee & Bar
X-ORIGINAL-URL:http://cafe.ravouna1906.com
X-WR-CALDESC:Events for Ravouna 1906 Coffee & Bar
BEGIN:VEVENT
DTSTART;TZID=UTC+0:20160117T100000
DTEND;TZID=UTC+0:20160117T150000
DTSTAMP:20260422T091121
CREATED:20160121T074310Z
LAST-MODIFIED:20160121T074310Z
UID:10905-1453024800-1453042800@cafe.ravouna1906.com
SUMMARY:Brunch
DESCRIPTION: \n
URL:http://cafe.ravouna1906.com/event-calendar/brunch-3/
LOCATION:Tomtom Mah. İstiklal Cad. No 201 Beyoğlu\, İstanbul
END:VEVENT
END:VCALENDAR