BEGIN:VCALENDAR
VERSION:2.0
PRODID:-//Ravouna 1906 Coffee & Bar - ECPv4.5.5//NONSGML v1.0//EN
CALSCALE:GREGORIAN
METHOD:PUBLISH
X-WR-CALNAME:Ravouna 1906 Coffee & Bar
X-ORIGINAL-URL:http://cafe.ravouna1906.com
X-WR-CALDESC:Events for Ravouna 1906 Coffee & Bar
BEGIN:VEVENT
DTSTART;TZID=UTC+0:20160214T100000
DTEND;TZID=UTC+0:20160214T120000
DTSTAMP:20260420T150242
CREATED:20160121T074648Z
LAST-MODIFIED:20160122T165149Z
UID:10907-1455444000-1455451200@cafe.ravouna1906.com
SUMMARY:St. Valentine's Day - Sevgililer Günü
DESCRIPTION:  \nHayatınızın başrolünü paylaştığınız o özel kişiyle; Ravouna 1906’ın çatısı altında eşsiz lezzetlerini paylaşmak ister misiniz? Tarihi dokusu\, boğaz manzaralı terası ve lezzetleri ile dikkat çeken Ravouna 1906\, sevgililer gününe özel menüsü ve sürprizleriyle konuklarını ağırlıyor.\n\nİstanbul’un tarihinde çok önemli aşklara konu olan tarihi Pera’da günümüze kadar en iyi korunmuş Art Nouveau binalardan biri olan Ravouna 1906’ın 14 Şubat Sevgililer Günü programı\, aşk temalı menüsü ve cazip konaklama paketinden oluşuyor. \nSevgililer Gününün ayrıcalıklı mekanları arasında yer alan Ravouna 1906’ın bu özel güne birbirinden nefis tatlardan oluşan aşk menüsü\, otelin deneyimli şefleri tarafından hazırlanıyor. \nKonaklama paketinde ise; çift kişilik odada bir gece konaklama\, sabah kahvaltısı\, güne özel dekor edilen şık ve konforlu odalarda kalpli pasta ve şampanya ikramı sunuyor. \n\n
URL:http://cafe.ravouna1906.com/event-calendar/brunch-5/
LOCATION:Tomtom Mah. İstiklal Cad. No 201 Beyoğlu\, İstanbul
ATTACH;FMTTYPE=image/jpeg:http://cafe.ravouna1906.com/wp-content/uploads/2014/10/150110aka0528.jpg
END:VEVENT
END:VCALENDAR