BEGIN:VCALENDAR
VERSION:2.0
PRODID:-//Ravouna 1906 Coffee & Bar - ECPv4.5.5//NONSGML v1.0//EN
CALSCALE:GREGORIAN
METHOD:PUBLISH
X-WR-CALNAME:Ravouna 1906 Coffee & Bar
X-ORIGINAL-URL:http://cafe.ravouna1906.com
X-WR-CALDESC:Events for Ravouna 1906 Coffee & Bar
BEGIN:VEVENT
DTSTART;TZID=UTC+3:20160110T100000
DTEND;TZID=UTC+3:20160110T150000
DTSTAMP:20260422T104852
CREATED:20160108T135524Z
LAST-MODIFIED:20160108T135654Z
UID:10897-1452420000-1452438000@cafe.ravouna1906.com
SUMMARY:Brunch
DESCRIPTION: \n
URL:http://cafe.ravouna1906.com/event-calendar/brunch/
LOCATION:Tomtom Mah. İstiklal Cad. No 201 Beyoğlu\, İstanbul
ORGANIZER;CN="Terrace":MAILTO:reservations@ravouna1906.com
END:VEVENT
END:VCALENDAR