BEGIN:VCALENDAR
VERSION:2.0
PRODID:-//Ravouna 1906 Coffee & Bar - ECPv4.5.5//NONSGML v1.0//EN
CALSCALE:GREGORIAN
METHOD:PUBLISH
X-WR-CALNAME:Ravouna 1906 Coffee & Bar
X-ORIGINAL-URL:http://cafe.ravouna1906.com
X-WR-CALDESC:Events for Ravouna 1906 Coffee & Bar
BEGIN:VEVENT
DTSTART;TZID=UTC+0:20160729T220000
DTEND;TZID=UTC+0:20160730T020000
DTSTAMP:20260418T205407
CREATED:20160716T125610Z
LAST-MODIFIED:20160722T150641Z
UID:11027-1469829600-1469844000@cafe.ravouna1906.com
SUMMARY:Burcu Kısakürek & DJ Performance
DESCRIPTION:RED & WHITE PARTY \nSolo Performance By Burcu Kısakürek & DJ Performance \n29th July \nFriday 20.00 – 02.00 \nRavouna 1906 RoofTop Terrace \n  \n
URL:http://cafe.ravouna1906.com/event-calendar/burcu-kisakurek/
LOCATION:Ravouna1906  İstiklal Caddesi Tomtom Mah. \, İstanbul\, Beyoğlu\, Turkey
ATTACH;FMTTYPE=image/jpeg:http://cafe.ravouna1906.com/wp-content/uploads/2016/07/duzeltme1.jpg
END:VEVENT
END:VCALENDAR