BEGIN:VCALENDAR
VERSION:2.0
PRODID:-//Ravouna 1906 Coffee & Bar - ECPv4.5.5//NONSGML v1.0//EN
CALSCALE:GREGORIAN
METHOD:PUBLISH
X-WR-CALNAME:Ravouna 1906 Coffee & Bar
X-ORIGINAL-URL:http://cafe.ravouna1906.com
X-WR-CALDESC:Events for Ravouna 1906 Coffee & Bar
BEGIN:VEVENT
DTSTART;TZID=UTC+0:20180708T210000
DTEND;TZID=UTC+0:20180708T223000
DTSTAMP:20260414T235214
CREATED:20180705T104556Z
LAST-MODIFIED:20180705T104556Z
UID:11144-1531083600-1531089000@cafe.ravouna1906.com
SUMMARY:Cafe Cubano
DESCRIPTION:
URL:http://cafe.ravouna1906.com/event-calendar/cafe-cubano/
LOCATION:Tomtom Mah. İstiklal Cad. No 201 Beyoğlu\, İstanbul
ATTACH;FMTTYPE=image/png:http://cafe.ravouna1906.com/wp-content/uploads/2018/07/ravouna-sanatci-06.png
END:VEVENT
END:VCALENDAR