BEGIN:VCALENDAR
VERSION:2.0
PRODID:-//Ravouna 1906 Coffee & Bar - ECPv4.5.5//NONSGML v1.0//EN
CALSCALE:GREGORIAN
METHOD:PUBLISH
X-WR-CALNAME:Ravouna 1906 Coffee & Bar
X-ORIGINAL-URL:http://cafe.ravouna1906.com
X-WR-CALDESC:Events for Ravouna 1906 Coffee & Bar
BEGIN:VEVENT
DTSTART;TZID=UTC+0:20151224T200000
DTEND;TZID=UTC+0:20151224T200000
DTSTAMP:20260419T110106
CREATED:20151225T095658Z
LAST-MODIFIED:20151225T095726Z
UID:10870-1450987200-1450987200@cafe.ravouna1906.com
SUMMARY:Christmas Dinner
DESCRIPTION: \n
URL:http://cafe.ravouna1906.com/event-calendar/christmas-dinner/
LOCATION:Tomtom Mah. İstiklal Cad. No 201 Beyoğlu\, İstanbul
END:VEVENT
END:VCALENDAR