BEGIN:VCALENDAR
VERSION:2.0
PRODID:-//Ravouna 1906 Coffee & Bar - ECPv4.5.5//NONSGML v1.0//EN
CALSCALE:GREGORIAN
METHOD:PUBLISH
X-WR-CALNAME:Ravouna 1906 Coffee & Bar
X-ORIGINAL-URL:http://cafe.ravouna1906.com
X-WR-CALDESC:Events for Ravouna 1906 Coffee & Bar
BEGIN:VEVENT
DTSTART;TZID=UTC+0:20160213T210000
DTEND;TZID=UTC+0:20160214T020000
DTSTAMP:20260415T130528
CREATED:20160211T082825Z
LAST-MODIFIED:20160211T082825Z
UID:11013-1455397200-1455415200@cafe.ravouna1906.com
SUMMARY:DJ İrfan
DESCRIPTION:
URL:http://cafe.ravouna1906.com/event-calendar/dj-irfan-2/
LOCATION:Ravouna 1906 \, İstanbul\, 34800
ATTACH;FMTTYPE=image/jpeg:http://cafe.ravouna1906.com/wp-content/uploads/2016/02/dj_irfan.jpg
ORGANIZER;CN="Terrace":MAILTO:reservations@ravouna1906.com
END:VEVENT
END:VCALENDAR