BEGIN:VCALENDAR
VERSION:2.0
PRODID:-//Ravouna 1906 Coffee & Bar - ECPv4.5.5//NONSGML v1.0//EN
CALSCALE:GREGORIAN
METHOD:PUBLISH
X-WR-CALNAME:Ravouna 1906 Coffee & Bar
X-ORIGINAL-URL:http://cafe.ravouna1906.com
X-WR-CALDESC:Events for Ravouna 1906 Coffee & Bar
BEGIN:VEVENT
DTSTART;TZID=UTC+0:20180705T210000
DTEND;TZID=UTC+0:20180705T230000
DTSTAMP:20260419T115153
CREATED:20180705T103928Z
LAST-MODIFIED:20180705T104721Z
UID:11133-1530824400-1530831600@cafe.ravouna1906.com
SUMMARY:Ezgi Daloğlu
DESCRIPTION:
URL:http://cafe.ravouna1906.com/event-calendar/ezgi-daloglu/
LOCATION:Tomtom Mah. İstiklal Cad. No 201 Beyoğlu\, İstanbul
ATTACH;FMTTYPE=image/png:http://cafe.ravouna1906.com/wp-content/uploads/2018/07/ravouna-sanatci-03.png
END:VEVENT
END:VCALENDAR