BEGIN:VCALENDAR
VERSION:2.0
PRODID:-//Ravouna 1906 Coffee & Bar - ECPv4.5.5//NONSGML v1.0//EN
CALSCALE:GREGORIAN
METHOD:PUBLISH
X-WR-CALNAME:Ravouna 1906 Coffee & Bar
X-ORIGINAL-URL:http://cafe.ravouna1906.com
X-WR-CALDESC:Events for Ravouna 1906 Coffee & Bar
BEGIN:VEVENT
DTSTART;TZID=UTC+0:20160228T100000
DTEND;TZID=UTC+0:20160228T150000
DTSTAMP:20260420T131840
CREATED:20160201T085626Z
LAST-MODIFIED:20160224T091012Z
UID:10980-1456653600-1456671600@cafe.ravouna1906.com
SUMMARY:Ravouna1906 Brunch
DESCRIPTION:Ravouna 1906 mutfak ekibinin yaratıcı yorumları ile Türk ve Dünya Mutfak lezzetlerinin\, kahvaltı klasikleriyle buluştuğu\, “ Ravouna 1906 Brunch” her Pazar \, lezzet ve keyif sunuyor. Sabah 10:00’da başlayıp 15:00’a dek süren brunchımıza 12:00’de Barbekü de dahil oluyor. Bu benzersiz deneyimi bizimle paylaşmak isteyen tüm misafirlerimizi her Pazar terasımıza bekleriz. \nRavouna Buffet Brunch\n Like your home with warmly atmosphere \,delicious and fresh foods. \n
URL:http://cafe.ravouna1906.com/event-calendar/ravouna1906-brunch-3/
LOCATION:Tomtom Mah. İstiklal Cad. No 201 Beyoğlu\, İstanbul
ATTACH;FMTTYPE=image/jpeg:http://cafe.ravouna1906.com/wp-content/uploads/2016/02/brunch.jpg
END:VEVENT
END:VCALENDAR