BEGIN:VCALENDAR
VERSION:2.0
PRODID:-//Ravouna 1906 Coffee & Bar - ECPv4.5.5//NONSGML v1.0//EN
CALSCALE:GREGORIAN
METHOD:PUBLISH
X-WR-CALNAME:Ravouna 1906 Coffee & Bar
X-ORIGINAL-URL:http://cafe.ravouna1906.com
X-WR-CALDESC:Events for Ravouna 1906 Coffee & Bar
BEGIN:VEVENT
DTSTART;TZID=UTC+0:20160217T183000
DTEND;TZID=UTC+0:20160217T200000
DTSTAMP:20260420T151158
CREATED:20160205T103402Z
LAST-MODIFIED:20160205T103626Z
UID:10986-1455733800-1455739200@cafe.ravouna1906.com
SUMMARY:Rotary Kültür ve Sanat Buluşmaları
DESCRIPTION:Rotary Kültür ve Sanat Buluşmalarının sekizinci toplantısının konusu “Opera”. \nSevgili Ayşe Sezerman; bizlere operanın nasıl doğduğundan ve günümüze kadar nasıl geliştiğine kadar geniş bir tarihçede bilgiler aktaracak. \n
URL:http://cafe.ravouna1906.com/event-calendar/rotary-bulusmalari/
LOCATION:Tomtom Mah. İstiklal Cad. No 201 Beyoğlu\, İstanbul
ATTACH;FMTTYPE=image/jpeg:http://cafe.ravouna1906.com/wp-content/uploads/2016/02/rotary-opera.jpg
END:VEVENT
END:VCALENDAR