BEGIN:VCALENDAR
VERSION:2.0
PRODID:-//Ravouna 1906 Coffee & Bar - ECPv4.5.5//NONSGML v1.0//EN
CALSCALE:GREGORIAN
METHOD:PUBLISH
X-WR-CALNAME:Ravouna 1906 Coffee & Bar
X-ORIGINAL-URL:http://cafe.ravouna1906.com
X-WR-CALDESC:Events for Ravouna 1906 Coffee & Bar
BEGIN:VEVENT
DTSTART;TZID=UTC+0:20161231T200000
DTEND;TZID=UTC+0:20170101T150000
DTSTAMP:20260412T190936
CREATED:20161214T084943Z
LAST-MODIFIED:20161219T135929Z
UID:11046-1483214400-1483282800@cafe.ravouna1906.com
SUMMARY:Yeni Yıl Kutlaması
DESCRIPTION:2017’yi Ravouna 1906’da karşılıyoruz\n \nDilerseniz Beyoğlu manzarası eşliğinde Art Nouveau dokuyla iç içe olabilir; yada muhteşem İstanbul Boğaz manzarasıyla bütünleşen terasımızda yeni yıla merhaba diyebilirsiniz.\n \n
URL:http://cafe.ravouna1906.com/event-calendar/yeni-yil-kutlamasi/
ATTACH;FMTTYPE=image/jpeg:http://cafe.ravouna1906.com/wp-content/uploads/2016/12/newyear2017.jpg
ORGANIZER;CN="Unnamed%20Organizer":MAILTO:info@ravouna1906.com
END:VEVENT
END:VCALENDAR