BEGIN:VCALENDAR
VERSION:2.0
PRODID:-//Ravouna 1906 Coffee & Bar - ECPv4.5.5//NONSGML v1.0//EN
CALSCALE:GREGORIAN
METHOD:PUBLISH
X-WR-CALNAME:Ravouna 1906 Coffee & Bar
X-ORIGINAL-URL:http://cafe.ravouna1906.com/tr
X-WR-CALDESC:Events for Ravouna 1906 Coffee & Bar
BEGIN:VEVENT
DTSTART;TZID=UTC+0:20180706T210000
DTEND;TZID=UTC+0:20180706T230000
DTSTAMP:20260415T104941
CREATED:20180705T104228Z
LAST-MODIFIED:20180705T104624Z
UID:11147-1530910800-1530918000@cafe.ravouna1906.com
SUMMARY:Can Bora Genç
DESCRIPTION:
URL:http://cafe.ravouna1906.com/tr/event-calendar/can-bora-genc/
LOCATION:Tomtom Mah. İstiklal Cad. No 201 Beyoğlu\, İstanbul
ATTACH;FMTTYPE=image/png:http://cafe.ravouna1906.com/wp-content/uploads/2018/07/ravouna-sanatci-04.png
END:VEVENT
END:VCALENDAR