BEGIN:VCALENDAR
VERSION:2.0
PRODID:-//Ravouna 1906 Coffee & Bar - ECPv4.5.5//NONSGML v1.0//EN
CALSCALE:GREGORIAN
METHOD:PUBLISH
X-WR-CALNAME:Ravouna 1906 Coffee & Bar
X-ORIGINAL-URL:http://cafe.ravouna1906.com/tr
X-WR-CALDESC:Events for Ravouna 1906 Coffee & Bar
BEGIN:VEVENT
DTSTART;TZID=UTC+0:20180202T220000
DTEND;TZID=UTC+0:20180202T235900
DTSTAMP:20260415T025855
CREATED:20180130T160612Z
LAST-MODIFIED:20180130T160630Z
UID:11093-1517608800-1517615940@cafe.ravouna1906.com
SUMMARY:Semiramis & The Soul Band
DESCRIPTION: \n
URL:http://cafe.ravouna1906.com/tr/event-calendar/semiramis-the-soul-band/
END:VEVENT
END:VCALENDAR